BEGIN:VCALENDAR
VERSION:2.0
PRODID:-//SRFÍ - ECPv6.15.20//NONSGML v1.0//EN
CALSCALE:GREGORIAN
METHOD:PUBLISH
X-WR-CALNAME:SRFÍ
X-ORIGINAL-URL:https://www.srfi.is
X-WR-CALDESC:Events for SRFÍ
REFRESH-INTERVAL;VALUE=DURATION:PT1H
X-Robots-Tag:noindex
X-PUBLISHED-TTL:PT1H
BEGIN:VTIMEZONE
TZID:UTC
BEGIN:STANDARD
TZOFFSETFROM:+0000
TZOFFSETTO:+0000
TZNAME:UTC
DTSTART:20210101T000000
END:STANDARD
END:VTIMEZONE
BEGIN:VEVENT
DTSTART;TZID=UTC:20220330T080000
DTEND;TZID=UTC:20220330T170000
DTSTAMP:20260421T173829
CREATED:20220330T092026Z
LAST-MODIFIED:20220429T154350Z
UID:4765-1648627200-1648659600@www.srfi.is
SUMMARY:Apríl 2022 - Full dagskrá
DESCRIPTION:Apríl er ótrúlega spennandi hjá okkur og mikið um að vera. \nKíktu á heimsíðuna okkar srfi.is\, einnig erum við á facebook og instagram \nHlökkum til að sjá ykkur \nSálarrannsóknarfélag íslands \nauglýsing
URL:https://www.srfi.is/event/april-2022-full-dagskra/
CATEGORIES:Fréttir
END:VEVENT
BEGIN:VEVENT
DTSTART;TZID=UTC:20220319T183000
DTEND;TZID=UTC:20220319T210000
DTSTAMP:20260421T173829
CREATED:20220311T160635Z
LAST-MODIFIED:20220429T154718Z
UID:4695-1647714600-1647723600@www.srfi.is
SUMMARY:Ljóslykla Virkjun/ Light Code Activation
DESCRIPTION:(English below)\nÞú ert velkomin í innra ferðalag þar sem við notumst við sérstaka ljóskóða og hljóðtíðni sem verða spilaðir á staðnum til að koma á jafnvægi á huga\, líkama og sál. Tom mun deila með okkur töfrandi og umbreytandi tónlistarferðalag sem inniheldur meðal annars íslenska náttúruhljóma. Við munum njóta áruhreinsunar og heilunarmeðferð Sifjar á meðan hún leiðir okkur í hugleiðslu. Tónlistin verður stillt í 432 hz til að hjálpa þér að tengjast sköpunarkrafinum þínum og efla heilunarorkuna í rýminu og þannig getur það aðstoðað þig við að tengast þínu innra óbreytta sjálfi. Heilunarrýmið sem við sköpum mun aðstoða við að virkja kraftinn þinn og vinna með breytingar og aðra hluti sem þarfnast kærleiksríka nálgun. Eins og margir vita þá er Jörðin að fara í gegnum mikla orkulega breytingu og þegar við komum saman þá aðstoðum við jörðina við að leiða niður þessa nýju ljóskóða sem eru okkur aðgengilegir núna\, ef við viljum.\nHvað á ég að koma með?\n-þægileg föt\n– ásetning fyrir þig og þitt ferðalag\n– yogadýnu ef þú átt\nOrkuskipti: 4444 isk\nTil að bóka plássið þitt máttu senda okkur skilaboð á messenger eða í gegnum tölvupóstinn: contact@homeofgaia.com\n———————————————\nYou are welcome to join a sacred space where we will be anchoring in light codes and healing frequencies to your body\, soul and mind. We gather together to go on a guided energetic healing transmission designed for you to feel more aligned\, connected and centered in your body. We will be listening to specific light sound frequencies along Sif’s voice and aura clearing method. Tom will be sharing magical and transformational musical ground infused with healing soundscapes combined with recorded Icelandic nature sounds. The music will be infused with a gentle yet firm classical guitar that will be played differently\, depending on the people. All sounds will be tuned according to Fibonacci’s golden ratio A=432 Hz . So expect a healing and inspiring sound activation transmission. As many people know\, the Earth is going through a major energy shift and when we come together we will help the Earth bring down these new codes that are now available to us.\n——————————————————————————–\nSIF YRAOLA\nIs a creator and a deep explorer of her inner being and on a mission to transmit her loving vision in the world through her work. She is the founder of Home of Gaia center\, DNA energy activator\, she is an intuitive guide\, life coach\, a mirror of your greatness and loves to create from her heart in many directions and forms!\n—————————————————————-\nTOM ALLON\nIs a creative catalyst\, spiritual messenger\, and facilitator for musical creations and ceremonies. You can follow Tom Allon on his musical creation platform on Facebook; https://www.facebook.com/Musicalcreation4all/ Tom Allon has accompanied many ceremonies and sacred spaces with his musical presence.\n—————————————————————-\nWhat to bring?\n-comfortable clothes\n-an intention for yourself and your inner journey\n-yoga mattress if you have\nEnergy exchange: 4444 isk. If you want to reserve a spot write us a pm or send an email to contact@homeofgaia.com\n\n\n\nWith love\,\nSif and Tom
URL:https://www.srfi.is/event/ljoslykla-virkjun-light-code-activation/
LOCATION:Salur SRFÍ\, Skipholt\, Reykjavík\, Iceland\, 105\, Iceland
CATEGORIES:Fréttir
ATTACH;FMTTYPE=image/png:https://www.srfi.is/wp-content/uploads/2022/03/Untitled-design.png
END:VEVENT
END:VCALENDAR